BEGIN:VCALENDAR
VERSION:2.0
PRODID:-//Riverview Farmers Market - ECPv6.15.20//NONSGML v1.0//EN
CALSCALE:GREGORIAN
METHOD:PUBLISH
X-WR-CALNAME:Riverview Farmers Market
X-ORIGINAL-URL:https://riverviewfarmersmarket.org
X-WR-CALDESC:Events for Riverview Farmers Market
REFRESH-INTERVAL;VALUE=DURATION:PT1H
X-Robots-Tag:noindex
X-PUBLISHED-TTL:PT1H
BEGIN:VTIMEZONE
TZID:America/New_York
BEGIN:DAYLIGHT
TZOFFSETFROM:-0500
TZOFFSETTO:-0400
TZNAME:EDT
DTSTART:20240310T070000
END:DAYLIGHT
BEGIN:STANDARD
TZOFFSETFROM:-0400
TZOFFSETTO:-0500
TZNAME:EST
DTSTART:20241103T060000
END:STANDARD
BEGIN:DAYLIGHT
TZOFFSETFROM:-0500
TZOFFSETTO:-0400
TZNAME:EDT
DTSTART:20250309T070000
END:DAYLIGHT
BEGIN:STANDARD
TZOFFSETFROM:-0400
TZOFFSETTO:-0500
TZNAME:EST
DTSTART:20251102T060000
END:STANDARD
BEGIN:DAYLIGHT
TZOFFSETFROM:-0500
TZOFFSETTO:-0400
TZNAME:EDT
DTSTART:20260308T070000
END:DAYLIGHT
BEGIN:STANDARD
TZOFFSETFROM:-0400
TZOFFSETTO:-0500
TZNAME:EST
DTSTART:20261101T060000
END:STANDARD
BEGIN:DAYLIGHT
TZOFFSETFROM:-0500
TZOFFSETTO:-0400
TZNAME:EDT
DTSTART:20270314T070000
END:DAYLIGHT
BEGIN:STANDARD
TZOFFSETFROM:-0400
TZOFFSETTO:-0500
TZNAME:EST
DTSTART:20271107T060000
END:STANDARD
END:VTIMEZONE
BEGIN:VEVENT
DTSTART;TZID=America/New_York:20260614T100000
DTEND;TZID=America/New_York:20260614T140000
DTSTAMP:20260421T164902
CREATED:20260419T223413Z
LAST-MODIFIED:20260419T224102Z
UID:1562-1781431200-1781445600@riverviewfarmersmarket.org
SUMMARY:Free Arts & Crafts with Kelsey
DESCRIPTION:Join us for Free Arts & Crafts with Kelsey\, our resident Artist Educator. She joins us every 2nd and 4th Sunday for free arts & crafts projects\, while supplies last!  \n\n\n\n\n\n\n\nProjects change each week and are seasonally themed. Take home whatever you make! If you love this program\, please consider making a donation to help support art at the Market.
URL:https://riverviewfarmersmarket.org/event/free-arts-crafts-with-kelsey-3/
LOCATION:Riverview Farmers Market\, 498 Palisade Ave\, Jersey City\, New Jersey\, 07307\, United States
END:VEVENT
BEGIN:VEVENT
DTSTART;TZID=America/New_York:20260614T100000
DTEND;TZID=America/New_York:20260614T140000
DTSTAMP:20260421T164902
CREATED:20260328T005023Z
LAST-MODIFIED:20260328T005027Z
UID:1527-1781431200-1781445600@riverviewfarmersmarket.org
SUMMARY:Sustainability Day
DESCRIPTION:
URL:https://riverviewfarmersmarket.org/event/sustainability-day-3/
LOCATION:Riverview Park\, 498 Palisade Ave\, Jersey City\, New Jersey\, 07307\, United States
END:VEVENT
BEGIN:VEVENT
DTSTART;TZID=America/New_York:20260524T100000
DTEND;TZID=America/New_York:20260524T140000
DTSTAMP:20260421T164902
CREATED:20260419T223227Z
LAST-MODIFIED:20260419T223857Z
UID:1560-1779616800-1779631200@riverviewfarmersmarket.org
SUMMARY:Free Arts & Crafts with Kelsey
DESCRIPTION:Join us for Free Arts & Crafts with Kelsey\, our resident Artist Educator. She joins us every 2nd and 4th Sunday for free arts & crafts projects\, while supplies last!  \n\n\n\n\n\n\n\nProjects change each week and are seasonally themed. Take home whatever you make! If you love this program\, please consider making a donation to help support art at the Market.
URL:https://riverviewfarmersmarket.org/event/free-arts-crafts-with-kelsey-2/
LOCATION:Riverview Farmers Market\, 498 Palisade Ave\, Jersey City\, New Jersey\, 07307\, United States
END:VEVENT
BEGIN:VEVENT
DTSTART;TZID=America/New_York:20260510T100000
DTEND;TZID=America/New_York:20260510T140000
DTSTAMP:20260421T164902
CREATED:20260419T222657Z
LAST-MODIFIED:20260419T223817Z
UID:1554-1778407200-1778421600@riverviewfarmersmarket.org
SUMMARY:Free Arts & Crafts with Kelsey
DESCRIPTION:Join us for Free Arts & Crafts with Kelsey\, our resident Artist Educator. She joins us every 2nd and 4th Sunday for free arts & crafts projects\, while supplies last!  \n\n\n\n\n\n\n\nProjects change each week and are seasonally themed. Take home whatever you make! If you love this program\, please consider making a donation to help support art at the Market.
URL:https://riverviewfarmersmarket.org/event/free-arts-crafts-with-kelsey/
LOCATION:Riverview Farmers Market\, 498 Palisade Ave\, Jersey City\, New Jersey\, 07307\, United States
END:VEVENT
BEGIN:VEVENT
DTSTART;TZID=America/New_York:20260503T100000
DTEND;TZID=America/New_York:20260503T140000
DTSTAMP:20260421T164902
CREATED:20260328T004802Z
LAST-MODIFIED:20260328T004808Z
UID:1525-1777802400-1777816800@riverviewfarmersmarket.org
SUMMARY:Opening Day
DESCRIPTION:Join us for the first day of the Riverview Farmers Market 16th season!
URL:https://riverviewfarmersmarket.org/event/opening-day-2/
LOCATION:New Jersey
END:VEVENT
BEGIN:VEVENT
DTSTART;TZID=America/New_York:20251206T100000
DTEND;TZID=America/New_York:20251206T160000
DTSTAMP:20260421T164902
CREATED:20250302T050307Z
LAST-MODIFIED:20250529T135607Z
UID:1211-1765015200-1765036800@riverviewfarmersmarket.org
SUMMARY:Heights Holiday Market
DESCRIPTION:Don’t miss the 4th annual Heights Holiday Market! This exclusive one-day pop up features more than 150+ local vendors and artisans\, free photos with Santa\, live performances\, free photo booth\, festive food and drink\, and more!
URL:https://riverviewfarmersmarket.org/event/heights-holiday-market-3/
LOCATION:Riverview Park\, 498 Palisade Ave\, Jersey City\, New Jersey\, 07307\, United States
CATEGORIES:Activities,Community Support
ATTACH;FMTTYPE=image/heic:https://riverviewfarmersmarket.org/wp-content/uploads/2025/03/IMG_8634-scaled.jpg
END:VEVENT
BEGIN:VEVENT
DTSTART;TZID=America/New_York:20251123T100000
DTEND;TZID=America/New_York:20251123T140000
DTSTAMP:20260421T164902
CREATED:20250302T050011Z
LAST-MODIFIED:20250529T135620Z
UID:1209-1763892000-1763906400@riverviewfarmersmarket.org
SUMMARY:Last Farmers Market Day 2025
DESCRIPTION:Don’t miss the Riverview Farmers Market last day of the 2025 season!
URL:https://riverviewfarmersmarket.org/event/last-market-day-2025/
LOCATION:Riverview Park\, 498 Palisade Ave\, Jersey City\, New Jersey\, 07307\, United States
END:VEVENT
BEGIN:VEVENT
DTSTART;TZID=America/New_York:20251123T090000
DTEND;TZID=America/New_York:20251123T100000
DTSTAMP:20260421T164902
CREATED:20250529T143054Z
LAST-MODIFIED:20250529T143055Z
UID:1362-1763888400-1763892000@riverviewfarmersmarket.org
SUMMARY:Yoga in the Park
DESCRIPTION:Join Sol Spirit Yoga & Wellness for free donation-based (suggested $10) Yoga in the Park at the Riverview Farmers Market. No experience is required as yoga practitioners of all levels are welcome to attend this outdoor yoga class overlooking the Manhattan skyline from Riverview Park. Visit their website to pre-register or show up same-day. All proceeds benefit ongoing community programming and support provided by the Riverview Farmers Market.
URL:https://riverviewfarmersmarket.org/event/yoga-in-the-park-21/
LOCATION:New Jersey
ATTACH;FMTTYPE=image/png:https://riverviewfarmersmarket.org/wp-content/uploads/2025/05/SolSpiritYogaWellness.png
END:VEVENT
BEGIN:VEVENT
DTSTART;TZID=America/New_York:20251116T090000
DTEND;TZID=America/New_York:20251116T100000
DTSTAMP:20260421T164902
CREATED:20250529T143001Z
LAST-MODIFIED:20250529T143002Z
UID:1360-1763283600-1763287200@riverviewfarmersmarket.org
SUMMARY:Yoga in the Park
DESCRIPTION:Join Sol Spirit Yoga & Wellness for free donation-based (suggested $10) Yoga in the Park at the Riverview Farmers Market. No experience is required as yoga practitioners of all levels are welcome to attend this outdoor yoga class overlooking the Manhattan skyline from Riverview Park. Visit their website to pre-register or show up same-day. All proceeds benefit ongoing community programming and support provided by the Riverview Farmers Market.
URL:https://riverviewfarmersmarket.org/event/yoga-in-the-park-20/
LOCATION:New Jersey
ATTACH;FMTTYPE=image/png:https://riverviewfarmersmarket.org/wp-content/uploads/2025/05/SolSpiritYogaWellness.png
END:VEVENT
BEGIN:VEVENT
DTSTART;TZID=America/New_York:20251109T090000
DTEND;TZID=America/New_York:20251109T100000
DTSTAMP:20260421T164902
CREATED:20250529T142919Z
LAST-MODIFIED:20250529T142920Z
UID:1358-1762678800-1762682400@riverviewfarmersmarket.org
SUMMARY:Yoga in the Park
DESCRIPTION:Join Sol Spirit Yoga & Wellness for free donation-based (suggested $10) Yoga in the Park at the Riverview Farmers Market. No experience is required as yoga practitioners of all levels are welcome to attend this outdoor yoga class overlooking the Manhattan skyline from Riverview Park. Visit their website to pre-register or show up same-day. All proceeds benefit ongoing community programming and support provided by the Riverview Farmers Market.
URL:https://riverviewfarmersmarket.org/event/yoga-in-the-park-19/
LOCATION:New Jersey
ATTACH;FMTTYPE=image/png:https://riverviewfarmersmarket.org/wp-content/uploads/2025/05/SolSpiritYogaWellness.png
END:VEVENT
BEGIN:VEVENT
DTSTART;TZID=America/New_York:20251102T100000
DTEND;TZID=America/New_York:20251102T140000
DTSTAMP:20260421T164902
CREATED:20250302T045643Z
LAST-MODIFIED:20250529T135553Z
UID:1206-1762077600-1762092000@riverviewfarmersmarket.org
SUMMARY:Day of the Dead Celebration
DESCRIPTION:Join the Riverview Farmers Market as they host their annual Day of the Dead / Dias de los Muertos celebration in Riverview Park! The event features a giant skeleton puppet parade that kicks off at noon\, community Ofrenda\, live Mariachi and traditional dancers\, and so much more.
URL:https://riverviewfarmersmarket.org/event/day-of-the-dead-celebration-3/
LOCATION:Riverview Park\, 498 Palisade Ave\, Jersey City\, New Jersey\, 07307\, United States
CATEGORIES:Activities,Culture,Festival,Live Music
ATTACH;FMTTYPE=image/jpeg:https://riverviewfarmersmarket.org/wp-content/uploads/2025/03/Copy-of-DOD-Parade-12.jpg
END:VEVENT
BEGIN:VEVENT
DTSTART;TZID=America/New_York:20251102T090000
DTEND;TZID=America/New_York:20251102T100000
DTSTAMP:20260421T164902
CREATED:20250529T142833Z
LAST-MODIFIED:20250529T142834Z
UID:1356-1762074000-1762077600@riverviewfarmersmarket.org
SUMMARY:Yoga in the Park
DESCRIPTION:Join Sol Spirit Yoga & Wellness for free donation-based (suggested $10) Yoga in the Park at the Riverview Farmers Market. No experience is required as yoga practitioners of all levels are welcome to attend this outdoor yoga class overlooking the Manhattan skyline from Riverview Park. Visit their website to pre-register or show up same-day. All proceeds benefit ongoing community programming and support provided by the Riverview Farmers Market.
URL:https://riverviewfarmersmarket.org/event/yoga-in-the-park-18/
LOCATION:New Jersey
ATTACH;FMTTYPE=image/png:https://riverviewfarmersmarket.org/wp-content/uploads/2025/05/SolSpiritYogaWellness.png
END:VEVENT
BEGIN:VEVENT
DTSTART;TZID=America/New_York:20251030T170000
DTEND;TZID=America/New_York:20251030T180000
DTSTAMP:20260421T164902
CREATED:20250302T045401Z
LAST-MODIFIED:20250529T135543Z
UID:1204-1761843600-1761847200@riverviewfarmersmarket.org
SUMMARY:Unveiling the Ofrenda
DESCRIPTION:Join the Riverview Farmers Market and local Mexican-American visionary artist Santiago Cohen as they unveil the community Ofrenda for this year’s Day of the Dead celebration in the Riverview Park gazebo.
URL:https://riverviewfarmersmarket.org/event/unveiling-the-ofrenda-2/
LOCATION:Riverview Park\, 498 Palisade Ave\, Jersey City\, New Jersey\, 07307\, United States
CATEGORIES:Activities,Culture
END:VEVENT
BEGIN:VEVENT
DTSTART;TZID=America/New_York:20251026T090000
DTEND;TZID=America/New_York:20251026T100000
DTSTAMP:20260421T164902
CREATED:20250529T142028Z
LAST-MODIFIED:20250529T142029Z
UID:1339-1761469200-1761472800@riverviewfarmersmarket.org
SUMMARY:Yoga in the Park
DESCRIPTION:Join Meraki Yoga & Wellness for free donation-based (suggested $10) Yoga in the Park at the Riverview Farmers Market. No experience is required as yoga practitioners of all levels are welcome to attend this outdoor yoga class overlooking the Manhattan skyline from Riverview Park. Visit their website to pre-register or show up same-day. All proceeds benefit ongoing community programming and support provided by the Riverview Farmers Market.
URL:https://riverviewfarmersmarket.org/event/yoga-in-the-park-11/
LOCATION:New Jersey
ATTACH;FMTTYPE=image/png:https://riverviewfarmersmarket.org/wp-content/uploads/2025/05/merakiCapture.png
ORGANIZER;CN="Meraki Yogini":MAILTO:merakiyogini@gmail.com
END:VEVENT
BEGIN:VEVENT
DTSTART;TZID=America/New_York:20251019T090000
DTEND;TZID=America/New_York:20251019T100000
DTSTAMP:20260421T164902
CREATED:20250529T141945Z
LAST-MODIFIED:20250529T141946Z
UID:1337-1760864400-1760868000@riverviewfarmersmarket.org
SUMMARY:Yoga in the Park
DESCRIPTION:Join Meraki Yoga & Wellness for free donation-based (suggested $10) Yoga in the Park at the Riverview Farmers Market. No experience is required as yoga practitioners of all levels are welcome to attend this outdoor yoga class overlooking the Manhattan skyline from Riverview Park. Visit their website to pre-register or show up same-day. All proceeds benefit ongoing community programming and support provided by the Riverview Farmers Market.
URL:https://riverviewfarmersmarket.org/event/yoga-in-the-park-10/
LOCATION:New Jersey
ATTACH;FMTTYPE=image/png:https://riverviewfarmersmarket.org/wp-content/uploads/2025/05/merakiCapture.png
ORGANIZER;CN="Meraki Yogini":MAILTO:merakiyogini@gmail.com
END:VEVENT
BEGIN:VEVENT
DTSTART;TZID=America/New_York:20251012T090000
DTEND;TZID=America/New_York:20251012T100000
DTSTAMP:20260421T164902
CREATED:20250529T141902Z
LAST-MODIFIED:20250529T141903Z
UID:1335-1760259600-1760263200@riverviewfarmersmarket.org
SUMMARY:Yoga in the Park
DESCRIPTION:Join Meraki Yoga & Wellness for free donation-based (suggested $10) Yoga in the Park at the Riverview Farmers Market. No experience is required as yoga practitioners of all levels are welcome to attend this outdoor yoga class overlooking the Manhattan skyline from Riverview Park. Visit their website to pre-register or show up same-day. All proceeds benefit ongoing community programming and support provided by the Riverview Farmers Market.
URL:https://riverviewfarmersmarket.org/event/yoga-in-the-park-9/
LOCATION:New Jersey
ATTACH;FMTTYPE=image/png:https://riverviewfarmersmarket.org/wp-content/uploads/2025/05/merakiCapture.png
ORGANIZER;CN="Meraki Yogini":MAILTO:merakiyogini@gmail.com
END:VEVENT
BEGIN:VEVENT
DTSTART;TZID=America/New_York:20251005T090000
DTEND;TZID=America/New_York:20251005T100000
DTSTAMP:20260421T164902
CREATED:20250529T135115Z
LAST-MODIFIED:20250529T135325Z
UID:1298-1759654800-1759658400@riverviewfarmersmarket.org
SUMMARY:Qi Gong Class - October
DESCRIPTION:Join Erin Kumpf from Erin Kumpf Acupuncture & Herbs as she hosts community Qi Gong every first Sunday through October at the Riverview Farmers Market! This class is great for beginners and people with all levels of experience. Qi Gong is an ancient practice rooted in Chinese Medicine that incorporates gentle stretches\, strengthening postures\, flowing movement\, breathwork\, and meditation. This practice is accessible to everyone\, making it ideal for anyone seeking stress relief\, healing\, and vitality through mindful movements. No experience is required and no equipment is needed.
URL:https://riverviewfarmersmarket.org/event/qi-gong-class-october/
LOCATION:New Jersey
CATEGORIES:Activities,Community Support
ATTACH;FMTTYPE=image/jpeg:https://riverviewfarmersmarket.org/wp-content/uploads/2025/05/IMG_1437.jpg
END:VEVENT
BEGIN:VEVENT
DTSTART;TZID=America/New_York:20250928T100000
DTEND;TZID=America/New_York:20250928T140000
DTSTAMP:20260421T164902
CREATED:20250302T045109Z
LAST-MODIFIED:20250529T135533Z
UID:1202-1759053600-1759068000@riverviewfarmersmarket.org
SUMMARY:Fall Harvest Festival
DESCRIPTION:Join the Riverview Farmers Market for their annual Fall Harvest Festival! Enjoy pumpkin painting\, fall-themed goodies\, live music\, and more!
URL:https://riverviewfarmersmarket.org/event/fall-harvest-festival-2/
LOCATION:Riverview Park\, 498 Palisade Ave\, Jersey City\, New Jersey\, 07307\, United States
CATEGORIES:Activities,Festival,Live Music
END:VEVENT
BEGIN:VEVENT
DTSTART;TZID=America/New_York:20250928T090000
DTEND;TZID=America/New_York:20250928T100000
DTSTAMP:20260421T164902
CREATED:20250529T142755Z
LAST-MODIFIED:20250529T142756Z
UID:1354-1759050000-1759053600@riverviewfarmersmarket.org
SUMMARY:Yoga in the Park
DESCRIPTION:Join Sol Spirit Yoga & Wellness for free donation-based (suggested $10) Yoga in the Park at the Riverview Farmers Market. No experience is required as yoga practitioners of all levels are welcome to attend this outdoor yoga class overlooking the Manhattan skyline from Riverview Park. Visit their website to pre-register or show up same-day. All proceeds benefit ongoing community programming and support provided by the Riverview Farmers Market.
URL:https://riverviewfarmersmarket.org/event/yoga-in-the-park-17/
LOCATION:New Jersey
ATTACH;FMTTYPE=image/png:https://riverviewfarmersmarket.org/wp-content/uploads/2025/05/SolSpiritYogaWellness.png
END:VEVENT
BEGIN:VEVENT
DTSTART;TZID=America/New_York:20250921T090000
DTEND;TZID=America/New_York:20250921T100000
DTSTAMP:20260421T164902
CREATED:20250529T142707Z
LAST-MODIFIED:20250529T142709Z
UID:1352-1758445200-1758448800@riverviewfarmersmarket.org
SUMMARY:Yoga in the Park
DESCRIPTION:Join Sol Spirit Yoga & Wellness for free donation-based (suggested $10) Yoga in the Park at the Riverview Farmers Market. No experience is required as yoga practitioners of all levels are welcome to attend this outdoor yoga class overlooking the Manhattan skyline from Riverview Park. Visit their website to pre-register or show up same-day. All proceeds benefit ongoing community programming and support provided by the Riverview Farmers Market.
URL:https://riverviewfarmersmarket.org/event/yoga-in-the-park-16/
LOCATION:New Jersey
ATTACH;FMTTYPE=image/png:https://riverviewfarmersmarket.org/wp-content/uploads/2025/05/SolSpiritYogaWellness.png
END:VEVENT
BEGIN:VEVENT
DTSTART;TZID=America/New_York:20250914T090000
DTEND;TZID=America/New_York:20250914T100000
DTSTAMP:20260421T164902
CREATED:20250529T142628Z
LAST-MODIFIED:20250529T142630Z
UID:1350-1757840400-1757844000@riverviewfarmersmarket.org
SUMMARY:Yoga in the Park
DESCRIPTION:Join Sol Spirit Yoga & Wellness for free donation-based (suggested $10) Yoga in the Park at the Riverview Farmers Market. No experience is required as yoga practitioners of all levels are welcome to attend this outdoor yoga class overlooking the Manhattan skyline from Riverview Park. Visit their website to pre-register or show up same-day. All proceeds benefit ongoing community programming and support provided by the Riverview Farmers Market.
URL:https://riverviewfarmersmarket.org/event/yoga-in-the-park-15/
LOCATION:New Jersey
ATTACH;FMTTYPE=image/png:https://riverviewfarmersmarket.org/wp-content/uploads/2025/05/SolSpiritYogaWellness.png
END:VEVENT
BEGIN:VEVENT
DTSTART;TZID=America/New_York:20250907T090000
DTEND;TZID=America/New_York:20250907T100000
DTSTAMP:20260421T164902
CREATED:20250529T135003Z
LAST-MODIFIED:20250529T135315Z
UID:1296-1757235600-1757239200@riverviewfarmersmarket.org
SUMMARY:Qi Gong Class - September
DESCRIPTION:Join Erin Kumpf from Erin Kumpf Acupuncture & Herbs as she hosts community Qi Gong every first Sunday through October at the Riverview Farmers Market! This class is great for beginners and people with all levels of experience. Qi Gong is an ancient practice rooted in Chinese Medicine that incorporates gentle stretches\, strengthening postures\, flowing movement\, breathwork\, and meditation. This practice is accessible to everyone\, making it ideal for anyone seeking stress relief\, healing\, and vitality through mindful movements. No experience is required and no equipment is needed.
URL:https://riverviewfarmersmarket.org/event/qi-gong-class-september/
LOCATION:New Jersey
CATEGORIES:Activities,Community Support
ATTACH;FMTTYPE=image/jpeg:https://riverviewfarmersmarket.org/wp-content/uploads/2025/05/IMG_1437.jpg
END:VEVENT
BEGIN:VEVENT
DTSTART;TZID=America/New_York:20250831T090000
DTEND;TZID=America/New_York:20250831T100000
DTSTAMP:20260421T164902
CREATED:20250529T141819Z
LAST-MODIFIED:20250529T141820Z
UID:1333-1756630800-1756634400@riverviewfarmersmarket.org
SUMMARY:Yoga in the Park
DESCRIPTION:Join Meraki Yoga & Wellness for free donation-based (suggested $10) Yoga in the Park at the Riverview Farmers Market. No experience is required as yoga practitioners of all levels are welcome to attend this outdoor yoga class overlooking the Manhattan skyline from Riverview Park. Visit their website to pre-register or show up same-day. All proceeds benefit ongoing community programming and support provided by the Riverview Farmers Market.
URL:https://riverviewfarmersmarket.org/event/yoga-in-the-park-8/
LOCATION:New Jersey
ATTACH;FMTTYPE=image/png:https://riverviewfarmersmarket.org/wp-content/uploads/2025/05/merakiCapture.png
ORGANIZER;CN="Meraki Yogini":MAILTO:merakiyogini@gmail.com
END:VEVENT
BEGIN:VEVENT
DTSTART;TZID=America/New_York:20250824T090000
DTEND;TZID=America/New_York:20250824T100000
DTSTAMP:20260421T164902
CREATED:20250529T141740Z
LAST-MODIFIED:20250529T141741Z
UID:1331-1756026000-1756029600@riverviewfarmersmarket.org
SUMMARY:Yoga in the Park
DESCRIPTION:Join Meraki Yoga & Wellness for free donation-based (suggested $10) Yoga in the Park at the Riverview Farmers Market. No experience is required as yoga practitioners of all levels are welcome to attend this outdoor yoga class overlooking the Manhattan skyline from Riverview Park. Visit their website to pre-register or show up same-day. All proceeds benefit ongoing community programming and support provided by the Riverview Farmers Market.
URL:https://riverviewfarmersmarket.org/event/yoga-in-the-park-7/
LOCATION:New Jersey
ATTACH;FMTTYPE=image/png:https://riverviewfarmersmarket.org/wp-content/uploads/2025/05/merakiCapture.png
ORGANIZER;CN="Meraki Yogini":MAILTO:merakiyogini@gmail.com
END:VEVENT
BEGIN:VEVENT
DTSTART;TZID=America/New_York:20250817T090000
DTEND;TZID=America/New_York:20250817T100000
DTSTAMP:20260421T164902
CREATED:20250529T141622Z
LAST-MODIFIED:20250529T141623Z
UID:1329-1755421200-1755424800@riverviewfarmersmarket.org
SUMMARY:Yoga in the Park
DESCRIPTION:Join Meraki Yoga & Wellness for free donation-based (suggested $10) Yoga in the Park at the Riverview Farmers Market. No experience is required as yoga practitioners of all levels are welcome to attend this outdoor yoga class overlooking the Manhattan skyline from Riverview Park. Visit their website to pre-register or show up same-day. All proceeds benefit ongoing community programming and support provided by the Riverview Farmers Market.
URL:https://riverviewfarmersmarket.org/event/yoga-in-the-park-6/
LOCATION:New Jersey
ATTACH;FMTTYPE=image/png:https://riverviewfarmersmarket.org/wp-content/uploads/2025/05/merakiCapture.png
ORGANIZER;CN="Meraki Yogini":MAILTO:merakiyogini@gmail.com
END:VEVENT
BEGIN:VEVENT
DTSTART;TZID=America/New_York:20250810T090000
DTEND;TZID=America/New_York:20250810T100000
DTSTAMP:20260421T164902
CREATED:20250529T141542Z
LAST-MODIFIED:20250529T141543Z
UID:1327-1754816400-1754820000@riverviewfarmersmarket.org
SUMMARY:Yoga in the Park
DESCRIPTION:Join Meraki Yoga & Wellness for free donation-based (suggested $10) Yoga in the Park at the Riverview Farmers Market. No experience is required as yoga practitioners of all levels are welcome to attend this outdoor yoga class overlooking the Manhattan skyline from Riverview Park. Visit their website to pre-register or show up same-day. All proceeds benefit ongoing community programming and support provided by the Riverview Farmers Market.
URL:https://riverviewfarmersmarket.org/event/yoga-in-the-park-5/
LOCATION:New Jersey
ATTACH;FMTTYPE=image/png:https://riverviewfarmersmarket.org/wp-content/uploads/2025/05/merakiCapture.png
ORGANIZER;CN="Meraki Yogini":MAILTO:merakiyogini@gmail.com
END:VEVENT
BEGIN:VEVENT
DTSTART;TZID=America/New_York:20250803T100000
DTEND;TZID=America/New_York:20250803T140000
DTSTAMP:20260421T164902
CREATED:20250302T043935Z
LAST-MODIFIED:20250725T195334Z
UID:1197-1754215200-1754229600@riverviewfarmersmarket.org
SUMMARY:Peach Pie Contest & Festival
DESCRIPTION:Join the Riverview Farmers Market for their annual Peach Pie Contest & Festival! Amateur bakers will compete for the title of Best Peach Pie and market visitors will have the opportunity to celebrate New Jersey peach season.
URL:https://riverviewfarmersmarket.org/event/peach-pie-contest-festival-2/
LOCATION:Riverview Park\, 498 Palisade Ave\, Jersey City\, New Jersey\, 07307\, United States
CATEGORIES:Activities,Festival,Live Music
ATTACH;FMTTYPE=image/jpeg:https://riverviewfarmersmarket.org/wp-content/uploads/2025/03/riverview-8.7.22-85.jpg
END:VEVENT
BEGIN:VEVENT
DTSTART;TZID=America/New_York:20250803T090000
DTEND;TZID=America/New_York:20250803T100000
DTSTAMP:20260421T164902
CREATED:20250529T134920Z
LAST-MODIFIED:20250529T135347Z
UID:1294-1754211600-1754215200@riverviewfarmersmarket.org
SUMMARY:Qi Gong Class - August
DESCRIPTION:Join Erin Kumpf from Erin Kumpf Acupuncture & Herbs as she hosts community Qi Gong every first Sunday through October at the Riverview Farmers Market! This class is great for beginners and people with all levels of experience. Qi Gong is an ancient practice rooted in Chinese Medicine that incorporates gentle stretches\, strengthening postures\, flowing movement\, breathwork\, and meditation. This practice is accessible to everyone\, making it ideal for anyone seeking stress relief\, healing\, and vitality through mindful movements. No experience is required and no equipment is needed.
URL:https://riverviewfarmersmarket.org/event/qi-gong-class-august/
LOCATION:New Jersey
CATEGORIES:Activities,Community Support
ATTACH;FMTTYPE=image/jpeg:https://riverviewfarmersmarket.org/wp-content/uploads/2025/05/IMG_1437.jpg
END:VEVENT
BEGIN:VEVENT
DTSTART;TZID=America/New_York:20250727T090000
DTEND;TZID=America/New_York:20250727T100000
DTSTAMP:20260421T164902
CREATED:20250529T142543Z
LAST-MODIFIED:20250529T142544Z
UID:1348-1753606800-1753610400@riverviewfarmersmarket.org
SUMMARY:Yoga in the Park
DESCRIPTION:Join Sol Spirit Yoga & Wellness for free donation-based (suggested $10) Yoga in the Park at the Riverview Farmers Market. No experience is required as yoga practitioners of all levels are welcome to attend this outdoor yoga class overlooking the Manhattan skyline from Riverview Park. Visit their website to pre-register or show up same-day. All proceeds benefit ongoing community programming and support provided by the Riverview Farmers Market.
URL:https://riverviewfarmersmarket.org/event/yoga-in-the-park-14/
LOCATION:New Jersey
ATTACH;FMTTYPE=image/png:https://riverviewfarmersmarket.org/wp-content/uploads/2025/05/SolSpiritYogaWellness.png
END:VEVENT
BEGIN:VEVENT
DTSTART;TZID=America/New_York:20250720T090000
DTEND;TZID=America/New_York:20250720T100000
DTSTAMP:20260421T164902
CREATED:20250529T142457Z
LAST-MODIFIED:20250529T142458Z
UID:1346-1753002000-1753005600@riverviewfarmersmarket.org
SUMMARY:Yoga in the Park
DESCRIPTION:Join Sol Spirit Yoga & Wellness for free donation-based (suggested $10) Yoga in the Park at the Riverview Farmers Market. No experience is required as yoga practitioners of all levels are welcome to attend this outdoor yoga class overlooking the Manhattan skyline from Riverview Park. Visit their website to pre-register or show up same-day. All proceeds benefit ongoing community programming and support provided by the Riverview Farmers Market.
URL:https://riverviewfarmersmarket.org/event/yoga-in-the-park-13/
LOCATION:New Jersey
ATTACH;FMTTYPE=image/png:https://riverviewfarmersmarket.org/wp-content/uploads/2025/05/SolSpiritYogaWellness.png
END:VEVENT
END:VCALENDAR