BEGIN:VCALENDAR
VERSION:2.0
PRODID:-//Riverview Farmers Market - ECPv6.15.20//NONSGML v1.0//EN
CALSCALE:GREGORIAN
METHOD:PUBLISH
X-WR-CALNAME:Riverview Farmers Market
X-ORIGINAL-URL:https://riverviewfarmersmarket.org
X-WR-CALDESC:Events for Riverview Farmers Market
REFRESH-INTERVAL;VALUE=DURATION:PT1H
X-Robots-Tag:noindex
X-PUBLISHED-TTL:PT1H
BEGIN:VTIMEZONE
TZID:America/New_York
BEGIN:DAYLIGHT
TZOFFSETFROM:-0500
TZOFFSETTO:-0400
TZNAME:EDT
DTSTART:20250309T070000
END:DAYLIGHT
BEGIN:STANDARD
TZOFFSETFROM:-0400
TZOFFSETTO:-0500
TZNAME:EST
DTSTART:20251102T060000
END:STANDARD
BEGIN:DAYLIGHT
TZOFFSETFROM:-0500
TZOFFSETTO:-0400
TZNAME:EDT
DTSTART:20260308T070000
END:DAYLIGHT
BEGIN:STANDARD
TZOFFSETFROM:-0400
TZOFFSETTO:-0500
TZNAME:EST
DTSTART:20261101T060000
END:STANDARD
BEGIN:DAYLIGHT
TZOFFSETFROM:-0500
TZOFFSETTO:-0400
TZNAME:EDT
DTSTART:20270314T070000
END:DAYLIGHT
BEGIN:STANDARD
TZOFFSETFROM:-0400
TZOFFSETTO:-0500
TZNAME:EST
DTSTART:20271107T060000
END:STANDARD
END:VTIMEZONE
BEGIN:VEVENT
DTSTART;TZID=America/New_York:20260503T100000
DTEND;TZID=America/New_York:20260503T140000
DTSTAMP:20260421T224119
CREATED:20260328T004802Z
LAST-MODIFIED:20260328T004808Z
UID:1525-1777802400-1777816800@riverviewfarmersmarket.org
SUMMARY:Opening Day
DESCRIPTION:Join us for the first day of the Riverview Farmers Market 16th season!
URL:https://riverviewfarmersmarket.org/event/opening-day-2/
LOCATION:New Jersey
END:VEVENT
BEGIN:VEVENT
DTSTART;TZID=America/New_York:20260510T100000
DTEND;TZID=America/New_York:20260510T140000
DTSTAMP:20260421T224119
CREATED:20260419T222657Z
LAST-MODIFIED:20260419T223817Z
UID:1554-1778407200-1778421600@riverviewfarmersmarket.org
SUMMARY:Free Arts & Crafts with Kelsey
DESCRIPTION:Join us for Free Arts & Crafts with Kelsey\, our resident Artist Educator. She joins us every 2nd and 4th Sunday for free arts & crafts projects\, while supplies last!  \n\n\n\n\n\n\n\nProjects change each week and are seasonally themed. Take home whatever you make! If you love this program\, please consider making a donation to help support art at the Market.
URL:https://riverviewfarmersmarket.org/event/free-arts-crafts-with-kelsey/
LOCATION:Riverview Farmers Market\, 498 Palisade Ave\, Jersey City\, New Jersey\, 07307\, United States
END:VEVENT
BEGIN:VEVENT
DTSTART;TZID=America/New_York:20260524T100000
DTEND;TZID=America/New_York:20260524T140000
DTSTAMP:20260421T224119
CREATED:20260419T223227Z
LAST-MODIFIED:20260419T223857Z
UID:1560-1779616800-1779631200@riverviewfarmersmarket.org
SUMMARY:Free Arts & Crafts with Kelsey
DESCRIPTION:Join us for Free Arts & Crafts with Kelsey\, our resident Artist Educator. She joins us every 2nd and 4th Sunday for free arts & crafts projects\, while supplies last!  \n\n\n\n\n\n\n\nProjects change each week and are seasonally themed. Take home whatever you make! If you love this program\, please consider making a donation to help support art at the Market.
URL:https://riverviewfarmersmarket.org/event/free-arts-crafts-with-kelsey-2/
LOCATION:Riverview Farmers Market\, 498 Palisade Ave\, Jersey City\, New Jersey\, 07307\, United States
END:VEVENT
BEGIN:VEVENT
DTSTART;TZID=America/New_York:20260614T100000
DTEND;TZID=America/New_York:20260614T140000
DTSTAMP:20260421T224119
CREATED:20260328T005023Z
LAST-MODIFIED:20260328T005027Z
UID:1527-1781431200-1781445600@riverviewfarmersmarket.org
SUMMARY:Sustainability Day
DESCRIPTION:
URL:https://riverviewfarmersmarket.org/event/sustainability-day-3/
LOCATION:Riverview Park\, 498 Palisade Ave\, Jersey City\, New Jersey\, 07307\, United States
END:VEVENT
BEGIN:VEVENT
DTSTART;TZID=America/New_York:20260614T100000
DTEND;TZID=America/New_York:20260614T140000
DTSTAMP:20260421T224119
CREATED:20260419T223413Z
LAST-MODIFIED:20260419T224102Z
UID:1562-1781431200-1781445600@riverviewfarmersmarket.org
SUMMARY:Free Arts & Crafts with Kelsey
DESCRIPTION:Join us for Free Arts & Crafts with Kelsey\, our resident Artist Educator. She joins us every 2nd and 4th Sunday for free arts & crafts projects\, while supplies last!  \n\n\n\n\n\n\n\nProjects change each week and are seasonally themed. Take home whatever you make! If you love this program\, please consider making a donation to help support art at the Market.
URL:https://riverviewfarmersmarket.org/event/free-arts-crafts-with-kelsey-3/
LOCATION:Riverview Farmers Market\, 498 Palisade Ave\, Jersey City\, New Jersey\, 07307\, United States
END:VEVENT
BEGIN:VEVENT
DTSTART;TZID=America/New_York:20260628T100000
DTEND;TZID=America/New_York:20260628T140000
DTSTAMP:20260421T224119
CREATED:20260419T224228Z
LAST-MODIFIED:20260419T224230Z
UID:1565-1782640800-1782655200@riverviewfarmersmarket.org
SUMMARY:Free Arts & Crafts with Kelsey
DESCRIPTION:Join us for Free Arts & Crafts with Kelsey\, our resident Artist Educator. She joins us every 2nd and 4th Sunday for free arts & crafts projects\, while supplies last!  \n\n\n\n\n\n\n\nProjects change each week and are seasonally themed. Take home whatever you make! If you love this program\, please consider making a donation to help support art at the Market.
URL:https://riverviewfarmersmarket.org/event/free-arts-crafts-with-kelsey-4/
LOCATION:Riverview Farmers Market\, 498 Palisade Ave\, Jersey City\, New Jersey\, 07307\, United States
END:VEVENT
BEGIN:VEVENT
DTSTART;TZID=America/New_York:20260712T100000
DTEND;TZID=America/New_York:20260712T140000
DTSTAMP:20260421T224119
CREATED:20260419T224418Z
LAST-MODIFIED:20260419T224420Z
UID:1567-1783850400-1783864800@riverviewfarmersmarket.org
SUMMARY:Free Arts & Crafts with Kelsey
DESCRIPTION:Join us for Free Arts & Crafts with Kelsey\, our resident Artist Educator. She joins us every 2nd and 4th Sunday for free arts & crafts projects\, while supplies last!  \n\n\n\n\n\n\n\nProjects change each week and are seasonally themed. Take home whatever you make! If you love this program\, please consider making a donation to help support art at the Market.
URL:https://riverviewfarmersmarket.org/event/free-arts-crafts-with-kelsey-5/
LOCATION:Riverview Farmers Market\, 498 Palisade Ave\, Jersey City\, New Jersey\, 07307\, United States
END:VEVENT
BEGIN:VEVENT
DTSTART;TZID=America/New_York:20260726T100000
DTEND;TZID=America/New_York:20260726T140000
DTSTAMP:20260421T224119
CREATED:20260419T224523Z
LAST-MODIFIED:20260419T224525Z
UID:1569-1785060000-1785074400@riverviewfarmersmarket.org
SUMMARY:Free Arts & Crafts with Kelsey
DESCRIPTION:Join us for Free Arts & Crafts with Kelsey\, our resident Artist Educator. She joins us every 2nd and 4th Sunday for free arts & crafts projects\, while supplies last!  \n\n\n\n\n\n\n\nProjects change each week and are seasonally themed. Take home whatever you make! If you love this program\, please consider making a donation to help support art at the Market.
URL:https://riverviewfarmersmarket.org/event/free-arts-crafts-with-kelsey-6/
LOCATION:Riverview Farmers Market\, 498 Palisade Ave\, Jersey City\, New Jersey\, 07307\, United States
END:VEVENT
BEGIN:VEVENT
DTSTART;TZID=America/New_York:20260802T100000
DTEND;TZID=America/New_York:20260802T140000
DTSTAMP:20260421T224119
CREATED:20260328T005317Z
LAST-MODIFIED:20260328T005322Z
UID:1529-1785664800-1785679200@riverviewfarmersmarket.org
SUMMARY:Peach Pie Contest & Festival
DESCRIPTION:Join us for the annual Peach Pie Contest & Festival where amateur bakers go head to head with their most delicious peach pie recipes! Free samples provided to the public and lots of peachy specials from vendors across the market.
URL:https://riverviewfarmersmarket.org/event/peach-pie-contest-festival-3/
LOCATION:Riverview Park\, 498 Palisade Ave\, Jersey City\, New Jersey\, 07307\, United States
END:VEVENT
BEGIN:VEVENT
DTSTART;TZID=America/New_York:20260809T100000
DTEND;TZID=America/New_York:20260809T140000
DTSTAMP:20260421T224119
CREATED:20260419T224632Z
LAST-MODIFIED:20260419T224634Z
UID:1571-1786269600-1786284000@riverviewfarmersmarket.org
SUMMARY:Free Arts & Crafts with Kelsey
DESCRIPTION:Join us for Free Arts & Crafts with Kelsey\, our resident Artist Educator. She joins us every 2nd and 4th Sunday for free arts & crafts projects\, while supplies last!  \n\n\n\n\n\n\n\nProjects change each week and are seasonally themed. Take home whatever you make! If you love this program\, please consider making a donation to help support art at the Market.
URL:https://riverviewfarmersmarket.org/event/free-arts-crafts-with-kelsey-7/
LOCATION:Riverview Farmers Market\, 498 Palisade Ave\, Jersey City\, New Jersey\, 07307\, United States
END:VEVENT
BEGIN:VEVENT
DTSTART;TZID=America/New_York:20260823T100000
DTEND;TZID=America/New_York:20260823T140000
DTSTAMP:20260421T224119
CREATED:20260419T224812Z
LAST-MODIFIED:20260419T224814Z
UID:1573-1787479200-1787493600@riverviewfarmersmarket.org
SUMMARY:Free Arts & Crafts with Kelsey
DESCRIPTION:Join us for Free Arts & Crafts with Kelsey\, our resident Artist Educator. She joins us every 2nd and 4th Sunday for free arts & crafts projects\, while supplies last!  \n\n\n\n\n\n\n\nProjects change each week and are seasonally themed. Take home whatever you make! If you love this program\, please consider making a donation to help support art at the Market.
URL:https://riverviewfarmersmarket.org/event/free-arts-crafts-with-kelsey-8/
LOCATION:Riverview Farmers Market\, 498 Palisade Ave\, Jersey City\, New Jersey\, 07307\, United States
END:VEVENT
BEGIN:VEVENT
DTSTART;TZID=America/New_York:20260913T100000
DTEND;TZID=America/New_York:20260913T140000
DTSTAMP:20260421T224119
CREATED:20260419T224921Z
LAST-MODIFIED:20260419T224923Z
UID:1575-1789293600-1789308000@riverviewfarmersmarket.org
SUMMARY:Free Arts & Crafts with Kelsey
DESCRIPTION:Join us for Free Arts & Crafts with Kelsey\, our resident Artist Educator. She joins us every 2nd and 4th Sunday for free arts & crafts projects\, while supplies last!  \n\n\n\n\n\n\n\nProjects change each week and are seasonally themed. Take home whatever you make! If you love this program\, please consider making a donation to help support art at the Market.
URL:https://riverviewfarmersmarket.org/event/free-arts-crafts-with-kelsey-9/
LOCATION:Riverview Farmers Market\, 498 Palisade Ave\, Jersey City\, New Jersey\, 07307\, United States
END:VEVENT
BEGIN:VEVENT
DTSTART;TZID=America/New_York:20260920T100000
DTEND;TZID=America/New_York:20260920T140000
DTSTAMP:20260421T224119
CREATED:20260328T005603Z
LAST-MODIFIED:20260328T005607Z
UID:1531-1789898400-1789912800@riverviewfarmersmarket.org
SUMMARY:Fall Harvest Festival
DESCRIPTION:Join us for the annual Fall Harvest Festival with live music\, fall activities\, and more!
URL:https://riverviewfarmersmarket.org/event/fall-harvest-festival-3/
LOCATION:Riverview Park\, 498 Palisade Ave\, Jersey City\, New Jersey\, 07307\, United States
END:VEVENT
BEGIN:VEVENT
DTSTART;TZID=America/New_York:20260927T100000
DTEND;TZID=America/New_York:20260927T140000
DTSTAMP:20260421T224119
CREATED:20260419T225051Z
LAST-MODIFIED:20260419T225053Z
UID:1577-1790503200-1790517600@riverviewfarmersmarket.org
SUMMARY:Free Arts & Crafts with Kelsey
DESCRIPTION:Join us for Free Arts & Crafts with Kelsey\, our resident Artist Educator. She joins us every 2nd and 4th Sunday for free arts & crafts projects\, while supplies last!  \n\n\n\n\n\n\n\nProjects change each week and are seasonally themed. Take home whatever you make! If you love this program\, please consider making a donation to help support art at the Market.
URL:https://riverviewfarmersmarket.org/event/free-arts-crafts-with-kelsey-10/
LOCATION:Riverview Farmers Market\, 498 Palisade Ave\, Jersey City\, New Jersey\, 07307\, United States
END:VEVENT
BEGIN:VEVENT
DTSTART;TZID=America/New_York:20261011T100000
DTEND;TZID=America/New_York:20261011T140000
DTSTAMP:20260421T224119
CREATED:20260419T225147Z
LAST-MODIFIED:20260419T225149Z
UID:1579-1791712800-1791727200@riverviewfarmersmarket.org
SUMMARY:Free Arts & Crafts with Kelsey
DESCRIPTION:Join us for Free Arts & Crafts with Kelsey\, our resident Artist Educator. She joins us every 2nd and 4th Sunday for free arts & crafts projects\, while supplies last!  \n\n\n\n\n\n\n\nProjects change each week and are seasonally themed. Take home whatever you make! If you love this program\, please consider making a donation to help support art at the Market.
URL:https://riverviewfarmersmarket.org/event/free-arts-crafts-with-kelsey-11/
LOCATION:Riverview Farmers Market\, 498 Palisade Ave\, Jersey City\, New Jersey\, 07307\, United States
END:VEVENT
BEGIN:VEVENT
DTSTART;TZID=America/New_York:20261025T100000
DTEND;TZID=America/New_York:20261025T140000
DTSTAMP:20260421T224119
CREATED:20260419T225323Z
LAST-MODIFIED:20260419T225326Z
UID:1581-1792922400-1792936800@riverviewfarmersmarket.org
SUMMARY:Free Arts & Crafts with Kelsey
DESCRIPTION:Join us for Free Arts & Crafts with Kelsey\, our resident Artist Educator. She joins us every 2nd and 4th Sunday for free arts & crafts projects\, while supplies last!  \n\n\n\n\n\n\n\nProjects change each week and are seasonally themed. Take home whatever you make! If you love this program\, please consider making a donation to help support art at the Market.
URL:https://riverviewfarmersmarket.org/event/free-arts-crafts-with-kelsey-12/
LOCATION:Riverview Farmers Market\, 498 Palisade Ave\, Jersey City\, New Jersey\, 07307\, United States
END:VEVENT
BEGIN:VEVENT
DTSTART;TZID=America/New_York:20261101T100000
DTEND;TZID=America/New_York:20261101T140000
DTSTAMP:20260421T224119
CREATED:20260328T010026Z
LAST-MODIFIED:20260328T010030Z
UID:1533-1793527200-1793541600@riverviewfarmersmarket.org
SUMMARY:Day of the Dead Celebration
DESCRIPTION:Join our signature Día de Los Muertos Celebration in Riverview Park! The giant skeleton puppet parade kicks off at Noon and the event includes live Mariachi\, traditional Mexican folk dancers\, and a community Ofrenda (altar) to share memories of lost loved ones.
URL:https://riverviewfarmersmarket.org/event/day-of-the-dead-celebration-4/
LOCATION:Riverview Park\, 498 Palisade Ave\, Jersey City\, New Jersey\, 07307\, United States
END:VEVENT
BEGIN:VEVENT
DTSTART;TZID=America/New_York:20261108T100000
DTEND;TZID=America/New_York:20261108T140000
DTSTAMP:20260421T224119
CREATED:20260419T225424Z
LAST-MODIFIED:20260419T225426Z
UID:1583-1794132000-1794146400@riverviewfarmersmarket.org
SUMMARY:Free Arts & Crafts with Kelsey
DESCRIPTION:Join us for Free Arts & Crafts with Kelsey\, our resident Artist Educator. She joins us every 2nd and 4th Sunday for free arts & crafts projects\, while supplies last!  \n\n\n\n\n\n\n\nProjects change each week and are seasonally themed. Take home whatever you make! If you love this program\, please consider making a donation to help support art at the Market.
URL:https://riverviewfarmersmarket.org/event/free-arts-crafts-with-kelsey-13/
LOCATION:Riverview Farmers Market\, 498 Palisade Ave\, Jersey City\, New Jersey\, 07307\, United States
END:VEVENT
BEGIN:VEVENT
DTSTART;TZID=America/New_York:20261122T100000
DTEND;TZID=America/New_York:20261122T140000
DTSTAMP:20260421T224119
CREATED:20260419T225537Z
LAST-MODIFIED:20260419T225539Z
UID:1585-1795341600-1795356000@riverviewfarmersmarket.org
SUMMARY:Free Arts & Crafts with Kelsey
DESCRIPTION:Join us for Free Arts & Crafts with Kelsey\, our resident Artist Educator. She joins us every 2nd and 4th Sunday for free arts & crafts projects\, while supplies last!  \n\n\n\n\n\n\n\nProjects change each week and are seasonally themed. Take home whatever you make! If you love this program\, please consider making a donation to help support art at the Market.
URL:https://riverviewfarmersmarket.org/event/free-arts-crafts-with-kelsey-14/
LOCATION:Riverview Farmers Market\, 498 Palisade Ave\, Jersey City\, New Jersey\, 07307\, United States
END:VEVENT
BEGIN:VEVENT
DTSTART;TZID=America/New_York:20261205T100000
DTEND;TZID=America/New_York:20261205T160000
DTSTAMP:20260421T224119
CREATED:20260328T010423Z
LAST-MODIFIED:20260328T010427Z
UID:1535-1796464800-1796486400@riverviewfarmersmarket.org
SUMMARY:Heights Holiday Market
DESCRIPTION:Come shop\, sip\, and socialize at the Heights’ premiere Holiday event of the season! The 5th annual Heights Holiday Market features 150+ local artisans and makers\, festive food court\, live entertainment\, free photobooth\, and more!
URL:https://riverviewfarmersmarket.org/event/heights-holiday-market-4/
LOCATION:Riverview Park\, 498 Palisade Ave\, Jersey City\, New Jersey\, 07307\, United States
END:VEVENT
END:VCALENDAR