BEGIN:VCALENDAR
VERSION:2.0
PRODID:-//Riverview Farmers Market - ECPv6.15.20//NONSGML v1.0//EN
CALSCALE:GREGORIAN
METHOD:PUBLISH
X-WR-CALNAME:Riverview Farmers Market
X-ORIGINAL-URL:https://riverviewfarmersmarket.org
X-WR-CALDESC:Events for Riverview Farmers Market
REFRESH-INTERVAL;VALUE=DURATION:PT1H
X-Robots-Tag:noindex
X-PUBLISHED-TTL:PT1H
BEGIN:VTIMEZONE
TZID:America/New_York
BEGIN:DAYLIGHT
TZOFFSETFROM:-0500
TZOFFSETTO:-0400
TZNAME:EDT
DTSTART:20220313T070000
END:DAYLIGHT
BEGIN:STANDARD
TZOFFSETFROM:-0400
TZOFFSETTO:-0500
TZNAME:EST
DTSTART:20221106T060000
END:STANDARD
BEGIN:DAYLIGHT
TZOFFSETFROM:-0500
TZOFFSETTO:-0400
TZNAME:EDT
DTSTART:20230312T070000
END:DAYLIGHT
BEGIN:STANDARD
TZOFFSETFROM:-0400
TZOFFSETTO:-0500
TZNAME:EST
DTSTART:20231105T060000
END:STANDARD
BEGIN:DAYLIGHT
TZOFFSETFROM:-0500
TZOFFSETTO:-0400
TZNAME:EDT
DTSTART:20240310T070000
END:DAYLIGHT
BEGIN:STANDARD
TZOFFSETFROM:-0400
TZOFFSETTO:-0500
TZNAME:EST
DTSTART:20241103T060000
END:STANDARD
BEGIN:DAYLIGHT
TZOFFSETFROM:-0500
TZOFFSETTO:-0400
TZNAME:EDT
DTSTART:20250309T070000
END:DAYLIGHT
BEGIN:STANDARD
TZOFFSETFROM:-0400
TZOFFSETTO:-0500
TZNAME:EST
DTSTART:20251102T060000
END:STANDARD
END:VTIMEZONE
BEGIN:VEVENT
DTSTART;TZID=America/New_York:20241207T100000
DTEND;TZID=America/New_York:20241207T160000
DTSTAMP:20260421T213357
CREATED:20240420T203714Z
LAST-MODIFIED:20240420T203715Z
UID:1093-1733565600-1733587200@riverviewfarmersmarket.org
SUMMARY:HEIGHTS HOLIDAY MARKET
DESCRIPTION:Join us for our third annual Heights Holiday Market pop up! More details coming soon.
URL:https://riverviewfarmersmarket.org/event/heights-holiday-market-2/
END:VEVENT
BEGIN:VEVENT
DTSTART;TZID=America/New_York:20241124T100000
DTEND;TZID=America/New_York:20241124T140000
DTSTAMP:20260421T213357
CREATED:20240420T203625Z
LAST-MODIFIED:20240420T203625Z
UID:1091-1732442400-1732456800@riverviewfarmersmarket.org
SUMMARY:LAST FARMERS MARKET
DESCRIPTION:Don’t miss the last Riverview Farmers Market day of the 2024 season. It’s your last chance to stock up on fresh\, local produce for the Thanksgiving holiday.
URL:https://riverviewfarmersmarket.org/event/last-farmers-market/
END:VEVENT
BEGIN:VEVENT
DTSTART;TZID=America/New_York:20241103T100000
DTEND;TZID=America/New_York:20241103T140000
DTSTAMP:20260421T213357
CREATED:20240420T203541Z
LAST-MODIFIED:20240420T203542Z
UID:1089-1730628000-1730642400@riverviewfarmersmarket.org
SUMMARY:DAY OF THE DEAD CELEBRATION
DESCRIPTION:Join us for our iconic Day of the Dead Celebration as we honor lost loved ones and the authentic traditions that are part of this Mexican holiday. More details coming soon.
URL:https://riverviewfarmersmarket.org/event/day-of-the-dead-celebration-2/
END:VEVENT
BEGIN:VEVENT
DTSTART;TZID=America/New_York:20241101T180000
DTEND;TZID=America/New_York:20241101T190000
DTSTAMP:20260421T213357
CREATED:20240924T011459Z
LAST-MODIFIED:20240924T200228Z
UID:1137-1730484000-1730487600@riverviewfarmersmarket.org
SUMMARY:UNVEILING OF THE OFRENDA
DESCRIPTION:Join us as we unveil the 2024 Ofrenda (altar) for the Days of the Dead celebration. Music\, dancing\, and more at the Riverview Fisk Gazebo. Free event! \n\n\n\n\n\n\n \n\n\n\n\nPhotos showcasing 2023 Ofrenda (altar) and unveiling ceremony. Featuring the Sueño Americano de Mexico dance troupe.
URL:https://riverviewfarmersmarket.org/event/unveiling-the-ofrenda/
END:VEVENT
BEGIN:VEVENT
DTSTART;TZID=America/New_York:20240915T100000
DTEND;TZID=America/New_York:20240915T140000
DTSTAMP:20260421T213357
CREATED:20240420T203453Z
LAST-MODIFIED:20240420T203454Z
UID:1087-1726394400-1726408800@riverviewfarmersmarket.org
SUMMARY:FALL HARVEST FESTIVAL
DESCRIPTION:Join us for our annual Fall Harvest Festival at Riverview Park! Free live music\, fall-themed family activities\, and 50+ vendors look forward to welcoming Fall to Jersey City.
URL:https://riverviewfarmersmarket.org/event/fall-harvest-festival/
END:VEVENT
BEGIN:VEVENT
DTSTART;TZID=America/New_York:20240804T100000
DTEND;TZID=America/New_York:20240804T140000
DTSTAMP:20260421T213357
CREATED:20240420T203401Z
LAST-MODIFIED:20240420T203402Z
UID:1085-1722765600-1722780000@riverviewfarmersmarket.org
SUMMARY:PEACH PIE CONTEST & FESTIVAL
DESCRIPTION:Join us for our annual Peach Pie Contest & Festival! More details coming soon.
URL:https://riverviewfarmersmarket.org/event/peach-pie-contest-festival/
END:VEVENT
BEGIN:VEVENT
DTSTART;TZID=America/New_York:20240623T100000
DTEND;TZID=America/New_York:20240623T140000
DTSTAMP:20260421T213357
CREATED:20240420T203315Z
LAST-MODIFIED:20240420T203315Z
UID:1083-1719136800-1719151200@riverviewfarmersmarket.org
SUMMARY:SUMMER SOLSTICE FESTIVAL
DESCRIPTION:Join us for our annual Summer Solstice Festival in Riverview Park. Free live music\, family-friendly activities\, and a full lineup of your favorite vendors will be ready to officially kick off Summer in Jersey City Heights.
URL:https://riverviewfarmersmarket.org/event/summer-solstice-festival/
END:VEVENT
BEGIN:VEVENT
DTSTART;TZID=America/New_York:20240609T100000
DTEND;TZID=America/New_York:20240609T140000
DTSTAMP:20260421T213357
CREATED:20240420T203210Z
LAST-MODIFIED:20240420T203211Z
UID:1080-1717927200-1717941600@riverviewfarmersmarket.org
SUMMARY:SUSTAINABILITY DAY
DESCRIPTION:Join us for our first ever Sustainability Day at the market! We will be hosting several workshops and activities focused around better ways to build sustainability into your lifestyle. More details coming soon.
URL:https://riverviewfarmersmarket.org/event/sustainability-day/
END:VEVENT
BEGIN:VEVENT
DTSTART;TZID=America/New_York:20240505T100000
DTEND;TZID=America/New_York:20240505T140000
DTSTAMP:20260421T213357
CREATED:20240420T203016Z
LAST-MODIFIED:20240420T203017Z
UID:1078-1714903200-1714917600@riverviewfarmersmarket.org
SUMMARY:OPENING DAY
DESCRIPTION:The Riverview Farmers Market returns for its 14th season at Riverview Park. Come join us for live music\, Bubbles\, free kids art\, and lots of new and returning vendors!
URL:https://riverviewfarmersmarket.org/event/opening-day/
END:VEVENT
BEGIN:VEVENT
DTSTART;TZID=America/New_York:20231202T100000
DTEND;TZID=America/New_York:20231202T160000
DTSTAMP:20260421T213357
CREATED:20230927T223934Z
LAST-MODIFIED:20230927T223935Z
UID:852-1701511200-1701532800@riverviewfarmersmarket.org
SUMMARY:Heights Holiday market
DESCRIPTION:The Heights Holiday Market returns to Riverview Park on Saturday\, December 2. Patrons can expect a variety of local artisans and vendors\, live music\, food & drink\, a special visit from Santa\, and more! To apply to become a vendor at the Holiday Market\, apply here: https://forms.gle/5cA49AjHZVagBMA28
URL:https://riverviewfarmersmarket.org/event/heights-holiday-market/
LOCATION:Riverview Park\, 498 Palisade Ave\, Jersey City\, New Jersey\, 07307\, United States
END:VEVENT
BEGIN:VEVENT
DTSTART;TZID=America/New_York:20231119T100000
DTEND;TZID=America/New_York:20231119T140000
DTSTAMP:20260421T213357
CREATED:20231001T151448Z
LAST-MODIFIED:20231001T151449Z
UID:873-1700388000-1700402400@riverviewfarmersmarket.org
SUMMARY:Free Kid's Art
DESCRIPTION:Free Kid’s Art activities will be available during the entirety of the Farmers Market. Look for the Kid’s Art Tent near the circle.  \n\n\n\nAbout Music & Art in the Park Programming by Riverview Farmers MarketThis program is made possible by a grant from the New Jersey State Council on the Arts\, a division of the Department of State\, and administered by the Hudson County Office of Cultural & Heritage Affairs\, Thomas A. DeGise\, Hudson County Executive & the Hudson County Board of County Commissioners.This program is also supported by public funds from the Jersey City Arts & Culture Trust Fund. Riverview Farmers Market and Farms in the Heights appreciate the support of both the Hudson County Office of Cultural & Heritage Affairs and the Jersey City Arts & Culture Trust Fund.
URL:https://riverviewfarmersmarket.org/event/free-kids-art-3/
CATEGORIES:Activities
END:VEVENT
BEGIN:VEVENT
DTSTART;TZID=America/New_York:20231119T100000
DTEND;TZID=America/New_York:20231119T140000
DTSTAMP:20260421T213357
CREATED:20231001T150944Z
LAST-MODIFIED:20231001T150945Z
UID:867-1700388000-1700402400@riverviewfarmersmarket.org
SUMMARY:Last Market Day of the Season
DESCRIPTION:The last Farmers Market of the 2023 season will be held Sunday\, November 19.
URL:https://riverviewfarmersmarket.org/event/last-market-day-of-the-season/
END:VEVENT
BEGIN:VEVENT
DTSTART;TZID=America/New_York:20231112T110000
DTEND;TZID=America/New_York:20231112T140000
DTSTAMP:20260421T213357
CREATED:20231001T151918Z
LAST-MODIFIED:20231001T152213Z
UID:877-1699786800-1699797600@riverviewfarmersmarket.org
SUMMARY:Live Music: DJ Pastiche
DESCRIPTION:About Music & Art in the Park Programming by Riverview Farmers MarketThis program is made possible by a grant from the New Jersey State Council on the Arts\, a division of the Department of State\, and administered by the Hudson County Office of Cultural & Heritage Affairs\, Thomas A. DeGise\, Hudson County Executive & the Hudson County Board of County Commissioners.This program is also supported by public funds from the Jersey City Arts & Culture Trust Fund. Riverview Farmers Market and Farms in the Heights appreciate the support of both the Hudson County Office of Cultural & Heritage Affairs and the Jersey City Arts & Culture Trust Fund.
URL:https://riverviewfarmersmarket.org/event/live-music-dj-pastiche/
CATEGORIES:Live Music
END:VEVENT
BEGIN:VEVENT
DTSTART;TZID=America/New_York:20231105T110000
DTEND;TZID=America/New_York:20231105T130000
DTSTAMP:20260421T213357
CREATED:20231001T145408Z
LAST-MODIFIED:20231003T155046Z
UID:862-1699182000-1699189200@riverviewfarmersmarket.org
SUMMARY:EFNEP Nutrition Workshop
DESCRIPTION:The Expanded Food and Nutrition Extension Program (EFNEP) will be preparing a dish full of fresh\, seasonal ingredients and talking about healthy eating and cooking with what’s in season. All market patrons are welcome to free samples and great information regarding healthy and seasonal eating.
URL:https://riverviewfarmersmarket.org/event/efnep-nutrition-workshop-2/
CATEGORIES:Nutrition
END:VEVENT
BEGIN:VEVENT
DTSTART;TZID=America/New_York:20231105T100000
DTEND;TZID=America/New_York:20231105T140000
DTSTAMP:20260421T213357
CREATED:20231001T151416Z
LAST-MODIFIED:20231001T151416Z
UID:871-1699178400-1699192800@riverviewfarmersmarket.org
SUMMARY:Free Kid's Art
DESCRIPTION:Free Kid’s Art activities will be available during the entirety of the Farmers Market. Look for the Kid’s Art Tent near the circle.  \n\n\n\nAbout Music & Art in the Park Programming by Riverview Farmers MarketThis program is made possible by a grant from the New Jersey State Council on the Arts\, a division of the Department of State\, and administered by the Hudson County Office of Cultural & Heritage Affairs\, Thomas A. DeGise\, Hudson County Executive & the Hudson County Board of County Commissioners.This program is also supported by public funds from the Jersey City Arts & Culture Trust Fund. Riverview Farmers Market and Farms in the Heights appreciate the support of both the Hudson County Office of Cultural & Heritage Affairs and the Jersey City Arts & Culture Trust Fund.
URL:https://riverviewfarmersmarket.org/event/free-kids-art-2/
CATEGORIES:Activities
END:VEVENT
BEGIN:VEVENT
DTSTART;TZID=America/New_York:20231102T180000
DTEND;TZID=America/New_York:20231102T190000
DTSTAMP:20260421T213357
CREATED:20231015T183729Z
LAST-MODIFIED:20231015T183731Z
UID:938-1698948000-1698951600@riverviewfarmersmarket.org
SUMMARY:Dias de los muertos community gathering
DESCRIPTION:To conclude this year’s Day of the Dead celebration\, join us for a gathering at the gazebo in Riverview Park where we will enjoy a free performance by traditional Mexican dance group Sueño Americano and share the tradition of the Ofrenda (memorial altar) with the community. \n\n\n\nOriginating with the Aztec people of Mexico\, Días de Los Muertos or Days of the Dead is traditionally held November 1 and 2 each year to honor the memory of lost loved ones through celebration.
URL:https://riverviewfarmersmarket.org/event/dias-de-los-muertos-community-gathering/
LOCATION:Riverview Park\, 498 Palisade Ave\, Jersey City\, New Jersey\, 07307\, United States
CATEGORIES:Culture
ATTACH;FMTTYPE=image/png:https://riverviewfarmersmarket.org/wp-content/uploads/2023/10/Dia-de-Los-Muertos-Community-Gathering-1.png
END:VEVENT
BEGIN:VEVENT
DTSTART;TZID=America/New_York:20231029T100000
DTEND;TZID=America/New_York:20231029T140000
DTSTAMP:20260421T213357
CREATED:20230920T183934Z
LAST-MODIFIED:20231007T213220Z
UID:759-1698573600-1698588000@riverviewfarmersmarket.org
SUMMARY:Day of the Dead celebration
DESCRIPTION:Join us for our annual Day of the Dead Celebration at the Riverview Farmers Market! Honor our lost loved ones through a community ofrenda (alter)\, traditional live music and dance\, and Santiago Cohen’s giant puppet parade! More details coming soon. \n\n\n\nProudly sponsored by Corcoran Sawyer Smith. Corcoran Sawyer Smith is made up of 100+ passionate real estate professionals serving Jersey City\, Hoboken\, and surrounding New Jersey communities. From cutting-edge condos to majestic brownstones on tree-lined streets\, they’ve represented some of the region’s most extraordinary properties. Their expert agents\, based at four strategically placed offices\, bring unrivaled market knowledge and neighborhood fluency\, giving our clients an exceptional edge. Learn more at www.corcoranss.com \n\n\n\n \n\n\n\nAbout Music & Art in the Park Programming by Riverview Farmers MarketThis program is made possible by a grant from the New Jersey State Council on the Arts\, a division of the Department of State\, and administered by the Hudson County Office of Cultural & Heritage Affairs\, Thomas A. DeGise\, Hudson County Executive & the Hudson County Board of County Commissioners.This program is also supported by public funds from the Jersey City Arts & Culture Trust Fund. Riverview Farmers Market and Farms in the Heights appreciate the support of both the Hudson County Office of Cultural & Heritage Affairs and the Jersey City Arts & Culture Trust Fund.
URL:https://riverviewfarmersmarket.org/event/day-of-the-dead-celebration/
LOCATION:Riverview Park\, 498 Palisade Ave\, Jersey City\, New Jersey\, 07307\, United States
CATEGORIES:Culture,Festival,Live Music
ATTACH;FMTTYPE=image/png:https://riverviewfarmersmarket.org/wp-content/uploads/2023/08/Day-of-the-Dead-Celebration-10_29.png
END:VEVENT
BEGIN:VEVENT
DTSTART;TZID=America/New_York:20231015T110000
DTEND;TZID=America/New_York:20231015T140000
DTSTAMP:20260421T213357
CREATED:20231001T151756Z
LAST-MODIFIED:20231001T151757Z
UID:875-1697367600-1697378400@riverviewfarmersmarket.org
SUMMARY:LIVE MUSIC: DJ KUNG PAO
DESCRIPTION:About Music & Art in the Park Programming by Riverview Farmers MarketThis program is made possible by a grant from the New Jersey State Council on the Arts\, a division of the Department of State\, and administered by the Hudson County Office of Cultural & Heritage Affairs\, Thomas A. DeGise\, Hudson County Executive & the Hudson County Board of County Commissioners.This program is also supported by public funds from the Jersey City Arts & Culture Trust Fund. Riverview Farmers Market and Farms in the Heights appreciate the support of both the Hudson County Office of Cultural & Heritage Affairs and the Jersey City Arts & Culture Trust Fund.
URL:https://riverviewfarmersmarket.org/event/live-music-dj-kung-pao/
CATEGORIES:Live Music
END:VEVENT
BEGIN:VEVENT
DTSTART;TZID=America/New_York:20231015T100000
DTEND;TZID=America/New_York:20231015T140000
DTSTAMP:20260421T213357
CREATED:20231013T152437Z
LAST-MODIFIED:20231013T152646Z
UID:931-1697364000-1697378400@riverviewfarmersmarket.org
SUMMARY:Recycling & Composting Giveaway
DESCRIPTION:The Jersey City Division of Recycling will be visiting the market to hand out educational literature and promotional flyers on recycling\, residential composting\, the backyard composting program\, and some of their seasonal programs such as the pumpkin composting program. Stop by while you’re at the market! \n\n\n\nThe Div of Recycling will bring some promotional giveaways for children and adults.  
URL:https://riverviewfarmersmarket.org/event/dept-of-public-works-recycling-composting-giveaway/
LOCATION:Riverview Park\, 498 Palisade Ave\, Jersey City\, New Jersey\, 07307\, United States
ATTACH;FMTTYPE=image/png:https://riverviewfarmersmarket.org/wp-content/uploads/2023/10/DivofRecycling.png
END:VEVENT
BEGIN:VEVENT
DTSTART;TZID=America/New_York:20231015T100000
DTEND;TZID=America/New_York:20231015T140000
DTSTAMP:20260421T213357
CREATED:20231012T202141Z
LAST-MODIFIED:20231012T202144Z
UID:919-1697364000-1697378400@riverviewfarmersmarket.org
SUMMARY:NAMI
DESCRIPTION:The National Alliance for Mental Illness (NAMI) will be tabling at the Market to connect with the public and offer information and resources to family members and individuals living with mental illness.
URL:https://riverviewfarmersmarket.org/event/nami/
CATEGORIES:Community Support
END:VEVENT
BEGIN:VEVENT
DTSTART;TZID=America/New_York:20231015T100000
DTEND;TZID=America/New_York:20231015T140000
DTSTAMP:20260421T213357
CREATED:20231001T151326Z
LAST-MODIFIED:20231001T151327Z
UID:869-1697364000-1697378400@riverviewfarmersmarket.org
SUMMARY:free kid's art
DESCRIPTION:Free Kid’s Art activities will be available during the entirety of the Farmers Market. Look for the Kid’s Art Tent near the circle.  \n\n\n\nAbout Music & Art in the Park Programming by Riverview Farmers MarketThis program is made possible by a grant from the New Jersey State Council on the Arts\, a division of the Department of State\, and administered by the Hudson County Office of Cultural & Heritage Affairs\, Thomas A. DeGise\, Hudson County Executive & the Hudson County Board of County Commissioners.This program is also supported by public funds from the Jersey City Arts & Culture Trust Fund. Riverview Farmers Market and Farms in the Heights appreciate the support of both the Hudson County Office of Cultural & Heritage Affairs and the Jersey City Arts & Culture Trust Fund.
URL:https://riverviewfarmersmarket.org/event/free-kids-art/
CATEGORIES:Activities
END:VEVENT
BEGIN:VEVENT
DTSTART;TZID=America/New_York:20231001T113000
DTEND;TZID=America/New_York:20231001T130000
DTSTAMP:20260421T213357
CREATED:20231001T150158Z
LAST-MODIFIED:20231001T150159Z
UID:864-1696159800-1696165200@riverviewfarmersmarket.org
SUMMARY:live music: vivian sessoms
DESCRIPTION:Accomplished singer and Harlem-native Vivian Sessoms will be serenading market patrons from the gazebo at Riverview Park. \n\n\n\nThis installment of Music in the Park is proudly sponsored by Corcoran Sawyer Smith. \n\n\n\nAbout Music & Art in the Park Programming by Riverview Farmers MarketThis program is made possible by a grant from the New Jersey State Council on the Arts\, a division of the Department of State\, and administered by the Hudson County Office of Cultural & Heritage Affairs\, Thomas A. DeGise\, Hudson County Executive & the Hudson County Board of County Commissioners.This program is also supported by public funds from the Jersey City Arts & Culture Trust Fund. Riverview Farmers Market and Farms in the Heights appreciate the support of both the Hudson County Office of Cultural & Heritage Affairs and the Jersey City Arts & Culture Trust Fund.
URL:https://riverviewfarmersmarket.org/event/live-music-vivian-sessoms/
CATEGORIES:Live Music
ATTACH;FMTTYPE=image/png:https://riverviewfarmersmarket.org/wp-content/uploads/2023/10/10_1-music.png
END:VEVENT
BEGIN:VEVENT
DTSTART;TZID=America/New_York:20231001T110000
DTEND;TZID=America/New_York:20231001T130000
DTSTAMP:20260421T213357
CREATED:20231001T145259Z
LAST-MODIFIED:20231001T145300Z
UID:859-1696158000-1696165200@riverviewfarmersmarket.org
SUMMARY:EFNEP Nutrition workshop
DESCRIPTION:The Expanded Food and Nutrition Extension Program (EFNEP) will be preparing a dish full of fresh\, seasonal ingredients and talking about healthy eating and cooking with what’s in season. All market patrons are welcome to free samples and great information regarding healthy and seasonal eating.
URL:https://riverviewfarmersmarket.org/event/efnep-nutrition-workshop/
CATEGORIES:Nutrition
END:VEVENT
END:VCALENDAR