BEGIN:VCALENDAR
VERSION:2.0
PRODID:-//Riverview Farmers Market - ECPv6.15.20//NONSGML v1.0//EN
CALSCALE:GREGORIAN
METHOD:PUBLISH
X-WR-CALNAME:Riverview Farmers Market
X-ORIGINAL-URL:https://riverviewfarmersmarket.org
X-WR-CALDESC:Events for Riverview Farmers Market
REFRESH-INTERVAL;VALUE=DURATION:PT1H
X-Robots-Tag:noindex
X-PUBLISHED-TTL:PT1H
BEGIN:VTIMEZONE
TZID:America/New_York
BEGIN:DAYLIGHT
TZOFFSETFROM:-0500
TZOFFSETTO:-0400
TZNAME:EDT
DTSTART:20220313T070000
END:DAYLIGHT
BEGIN:STANDARD
TZOFFSETFROM:-0400
TZOFFSETTO:-0500
TZNAME:EST
DTSTART:20221106T060000
END:STANDARD
BEGIN:DAYLIGHT
TZOFFSETFROM:-0500
TZOFFSETTO:-0400
TZNAME:EDT
DTSTART:20230312T070000
END:DAYLIGHT
BEGIN:STANDARD
TZOFFSETFROM:-0400
TZOFFSETTO:-0500
TZNAME:EST
DTSTART:20231105T060000
END:STANDARD
BEGIN:DAYLIGHT
TZOFFSETFROM:-0500
TZOFFSETTO:-0400
TZNAME:EDT
DTSTART:20240310T070000
END:DAYLIGHT
BEGIN:STANDARD
TZOFFSETFROM:-0400
TZOFFSETTO:-0500
TZNAME:EST
DTSTART:20241103T060000
END:STANDARD
END:VTIMEZONE
BEGIN:VEVENT
DTSTART;TZID=America/New_York:20231001T110000
DTEND;TZID=America/New_York:20231001T130000
DTSTAMP:20260421T233424
CREATED:20231001T145259Z
LAST-MODIFIED:20231001T145300Z
UID:859-1696158000-1696165200@riverviewfarmersmarket.org
SUMMARY:EFNEP Nutrition workshop
DESCRIPTION:The Expanded Food and Nutrition Extension Program (EFNEP) will be preparing a dish full of fresh\, seasonal ingredients and talking about healthy eating and cooking with what’s in season. All market patrons are welcome to free samples and great information regarding healthy and seasonal eating.
URL:https://riverviewfarmersmarket.org/event/efnep-nutrition-workshop/
CATEGORIES:Nutrition
END:VEVENT
END:VCALENDAR