BEGIN:VCALENDAR
VERSION:2.0
PRODID:-//Riverview Farmers Market - ECPv6.15.20//NONSGML v1.0//EN
CALSCALE:GREGORIAN
METHOD:PUBLISH
X-WR-CALNAME:Riverview Farmers Market
X-ORIGINAL-URL:https://riverviewfarmersmarket.org
X-WR-CALDESC:Events for Riverview Farmers Market
REFRESH-INTERVAL;VALUE=DURATION:PT1H
X-Robots-Tag:noindex
X-PUBLISHED-TTL:PT1H
BEGIN:VTIMEZONE
TZID:America/New_York
BEGIN:DAYLIGHT
TZOFFSETFROM:-0500
TZOFFSETTO:-0400
TZNAME:EDT
DTSTART:20220313T070000
END:DAYLIGHT
BEGIN:STANDARD
TZOFFSETFROM:-0400
TZOFFSETTO:-0500
TZNAME:EST
DTSTART:20221106T060000
END:STANDARD
BEGIN:DAYLIGHT
TZOFFSETFROM:-0500
TZOFFSETTO:-0400
TZNAME:EDT
DTSTART:20230312T070000
END:DAYLIGHT
BEGIN:STANDARD
TZOFFSETFROM:-0400
TZOFFSETTO:-0500
TZNAME:EST
DTSTART:20231105T060000
END:STANDARD
BEGIN:DAYLIGHT
TZOFFSETFROM:-0500
TZOFFSETTO:-0400
TZNAME:EDT
DTSTART:20240310T070000
END:DAYLIGHT
BEGIN:STANDARD
TZOFFSETFROM:-0400
TZOFFSETTO:-0500
TZNAME:EST
DTSTART:20241103T060000
END:STANDARD
END:VTIMEZONE
BEGIN:VEVENT
DTSTART;TZID=America/New_York:20231015T100000
DTEND;TZID=America/New_York:20231015T140000
DTSTAMP:20260422T005921
CREATED:20231012T202141Z
LAST-MODIFIED:20231012T202144Z
UID:919-1697364000-1697378400@riverviewfarmersmarket.org
SUMMARY:NAMI
DESCRIPTION:The National Alliance for Mental Illness (NAMI) will be tabling at the Market to connect with the public and offer information and resources to family members and individuals living with mental illness.
URL:https://riverviewfarmersmarket.org/event/nami/
CATEGORIES:Community Support
END:VEVENT
BEGIN:VEVENT
DTSTART;TZID=America/New_York:20231015T100000
DTEND;TZID=America/New_York:20231015T140000
DTSTAMP:20260422T005921
CREATED:20231001T151326Z
LAST-MODIFIED:20231001T151327Z
UID:869-1697364000-1697378400@riverviewfarmersmarket.org
SUMMARY:free kid's art
DESCRIPTION:Free Kid’s Art activities will be available during the entirety of the Farmers Market. Look for the Kid’s Art Tent near the circle.  \n\n\n\nAbout Music & Art in the Park Programming by Riverview Farmers MarketThis program is made possible by a grant from the New Jersey State Council on the Arts\, a division of the Department of State\, and administered by the Hudson County Office of Cultural & Heritage Affairs\, Thomas A. DeGise\, Hudson County Executive & the Hudson County Board of County Commissioners.This program is also supported by public funds from the Jersey City Arts & Culture Trust Fund. Riverview Farmers Market and Farms in the Heights appreciate the support of both the Hudson County Office of Cultural & Heritage Affairs and the Jersey City Arts & Culture Trust Fund.
URL:https://riverviewfarmersmarket.org/event/free-kids-art/
CATEGORIES:Activities
END:VEVENT
BEGIN:VEVENT
DTSTART;TZID=America/New_York:20231001T113000
DTEND;TZID=America/New_York:20231001T130000
DTSTAMP:20260422T005921
CREATED:20231001T150158Z
LAST-MODIFIED:20231001T150159Z
UID:864-1696159800-1696165200@riverviewfarmersmarket.org
SUMMARY:live music: vivian sessoms
DESCRIPTION:Accomplished singer and Harlem-native Vivian Sessoms will be serenading market patrons from the gazebo at Riverview Park. \n\n\n\nThis installment of Music in the Park is proudly sponsored by Corcoran Sawyer Smith. \n\n\n\nAbout Music & Art in the Park Programming by Riverview Farmers MarketThis program is made possible by a grant from the New Jersey State Council on the Arts\, a division of the Department of State\, and administered by the Hudson County Office of Cultural & Heritage Affairs\, Thomas A. DeGise\, Hudson County Executive & the Hudson County Board of County Commissioners.This program is also supported by public funds from the Jersey City Arts & Culture Trust Fund. Riverview Farmers Market and Farms in the Heights appreciate the support of both the Hudson County Office of Cultural & Heritage Affairs and the Jersey City Arts & Culture Trust Fund.
URL:https://riverviewfarmersmarket.org/event/live-music-vivian-sessoms/
CATEGORIES:Live Music
ATTACH;FMTTYPE=image/png:https://riverviewfarmersmarket.org/wp-content/uploads/2023/10/10_1-music.png
END:VEVENT
BEGIN:VEVENT
DTSTART;TZID=America/New_York:20231001T110000
DTEND;TZID=America/New_York:20231001T130000
DTSTAMP:20260422T005921
CREATED:20231001T145259Z
LAST-MODIFIED:20231001T145300Z
UID:859-1696158000-1696165200@riverviewfarmersmarket.org
SUMMARY:EFNEP Nutrition workshop
DESCRIPTION:The Expanded Food and Nutrition Extension Program (EFNEP) will be preparing a dish full of fresh\, seasonal ingredients and talking about healthy eating and cooking with what’s in season. All market patrons are welcome to free samples and great information regarding healthy and seasonal eating.
URL:https://riverviewfarmersmarket.org/event/efnep-nutrition-workshop/
CATEGORIES:Nutrition
END:VEVENT
END:VCALENDAR