BEGIN:VCALENDAR
VERSION:2.0
PRODID:-//Riverview Farmers Market - ECPv6.15.20//NONSGML v1.0//EN
CALSCALE:GREGORIAN
METHOD:PUBLISH
X-ORIGINAL-URL:https://riverviewfarmersmarket.org
X-WR-CALDESC:Events for Riverview Farmers Market
REFRESH-INTERVAL;VALUE=DURATION:PT1H
X-Robots-Tag:noindex
X-PUBLISHED-TTL:PT1H
BEGIN:VTIMEZONE
TZID:America/New_York
BEGIN:DAYLIGHT
TZOFFSETFROM:-0500
TZOFFSETTO:-0400
TZNAME:EDT
DTSTART:20250309T070000
END:DAYLIGHT
BEGIN:STANDARD
TZOFFSETFROM:-0400
TZOFFSETTO:-0500
TZNAME:EST
DTSTART:20251102T060000
END:STANDARD
BEGIN:DAYLIGHT
TZOFFSETFROM:-0500
TZOFFSETTO:-0400
TZNAME:EDT
DTSTART:20260308T070000
END:DAYLIGHT
BEGIN:STANDARD
TZOFFSETFROM:-0400
TZOFFSETTO:-0500
TZNAME:EST
DTSTART:20261101T060000
END:STANDARD
BEGIN:DAYLIGHT
TZOFFSETFROM:-0500
TZOFFSETTO:-0400
TZNAME:EDT
DTSTART:20270314T070000
END:DAYLIGHT
BEGIN:STANDARD
TZOFFSETFROM:-0400
TZOFFSETTO:-0500
TZNAME:EST
DTSTART:20271107T060000
END:STANDARD
END:VTIMEZONE
BEGIN:VEVENT
DTSTART;TZID=America/New_York:20260503T100000
DTEND;TZID=America/New_York:20260503T140000
DTSTAMP:20260421T091717
CREATED:20260328T004802Z
LAST-MODIFIED:20260328T004808Z
UID:1525-1777802400-1777816800@riverviewfarmersmarket.org
SUMMARY:Opening Day
DESCRIPTION:Join us for the first day of the Riverview Farmers Market 16th season!
URL:https://riverviewfarmersmarket.org/event/opening-day-2/
LOCATION:New Jersey
END:VEVENT
BEGIN:VEVENT
DTSTART;TZID=America/New_York:20260510T100000
DTEND;TZID=America/New_York:20260510T140000
DTSTAMP:20260421T091717
CREATED:20260419T222657Z
LAST-MODIFIED:20260419T223817Z
UID:1554-1778407200-1778421600@riverviewfarmersmarket.org
SUMMARY:Free Arts & Crafts with Kelsey
DESCRIPTION:Join us for Free Arts & Crafts with Kelsey\, our resident Artist Educator. She joins us every 2nd and 4th Sunday for free arts & crafts projects\, while supplies last!  \n\n\n\n\n\n\n\nProjects change each week and are seasonally themed. Take home whatever you make! If you love this program\, please consider making a donation to help support art at the Market.
URL:https://riverviewfarmersmarket.org/event/free-arts-crafts-with-kelsey/
LOCATION:Riverview Farmers Market\, 498 Palisade Ave\, Jersey City\, New Jersey\, 07307\, United States
END:VEVENT
BEGIN:VEVENT
DTSTART;TZID=America/New_York:20260524T100000
DTEND;TZID=America/New_York:20260524T140000
DTSTAMP:20260421T091717
CREATED:20260419T223227Z
LAST-MODIFIED:20260419T223857Z
UID:1560-1779616800-1779631200@riverviewfarmersmarket.org
SUMMARY:Free Arts & Crafts with Kelsey
DESCRIPTION:Join us for Free Arts & Crafts with Kelsey\, our resident Artist Educator. She joins us every 2nd and 4th Sunday for free arts & crafts projects\, while supplies last!  \n\n\n\n\n\n\n\nProjects change each week and are seasonally themed. Take home whatever you make! If you love this program\, please consider making a donation to help support art at the Market.
URL:https://riverviewfarmersmarket.org/event/free-arts-crafts-with-kelsey-2/
LOCATION:Riverview Farmers Market\, 498 Palisade Ave\, Jersey City\, New Jersey\, 07307\, United States
END:VEVENT
END:VCALENDAR