BEGIN:VCALENDAR
VERSION:2.0
PRODID:-//Riverview Farmers Market - ECPv6.15.20//NONSGML v1.0//EN
CALSCALE:GREGORIAN
METHOD:PUBLISH
X-WR-CALNAME:Riverview Farmers Market
X-ORIGINAL-URL:https://riverviewfarmersmarket.org
X-WR-CALDESC:Events for Riverview Farmers Market
REFRESH-INTERVAL;VALUE=DURATION:PT1H
X-Robots-Tag:noindex
X-PUBLISHED-TTL:PT1H
BEGIN:VTIMEZONE
TZID:America/New_York
BEGIN:DAYLIGHT
TZOFFSETFROM:-0500
TZOFFSETTO:-0400
TZNAME:EDT
DTSTART:20250309T070000
END:DAYLIGHT
BEGIN:STANDARD
TZOFFSETFROM:-0400
TZOFFSETTO:-0500
TZNAME:EST
DTSTART:20251102T060000
END:STANDARD
BEGIN:DAYLIGHT
TZOFFSETFROM:-0500
TZOFFSETTO:-0400
TZNAME:EDT
DTSTART:20260308T070000
END:DAYLIGHT
BEGIN:STANDARD
TZOFFSETFROM:-0400
TZOFFSETTO:-0500
TZNAME:EST
DTSTART:20261101T060000
END:STANDARD
BEGIN:DAYLIGHT
TZOFFSETFROM:-0500
TZOFFSETTO:-0400
TZNAME:EDT
DTSTART:20270314T070000
END:DAYLIGHT
BEGIN:STANDARD
TZOFFSETFROM:-0400
TZOFFSETTO:-0500
TZNAME:EST
DTSTART:20271107T060000
END:STANDARD
END:VTIMEZONE
BEGIN:VEVENT
DTSTART;TZID=America/New_York:20260802T100000
DTEND;TZID=America/New_York:20260802T140000
DTSTAMP:20260421T134132
CREATED:20260328T005317Z
LAST-MODIFIED:20260328T005322Z
UID:1529-1785664800-1785679200@riverviewfarmersmarket.org
SUMMARY:Peach Pie Contest & Festival
DESCRIPTION:Join us for the annual Peach Pie Contest & Festival where amateur bakers go head to head with their most delicious peach pie recipes! Free samples provided to the public and lots of peachy specials from vendors across the market.
URL:https://riverviewfarmersmarket.org/event/peach-pie-contest-festival-3/
LOCATION:Riverview Park\, 498 Palisade Ave\, Jersey City\, New Jersey\, 07307\, United States
END:VEVENT
BEGIN:VEVENT
DTSTART;TZID=America/New_York:20260809T100000
DTEND;TZID=America/New_York:20260809T140000
DTSTAMP:20260421T134132
CREATED:20260419T224632Z
LAST-MODIFIED:20260419T224634Z
UID:1571-1786269600-1786284000@riverviewfarmersmarket.org
SUMMARY:Free Arts & Crafts with Kelsey
DESCRIPTION:Join us for Free Arts & Crafts with Kelsey\, our resident Artist Educator. She joins us every 2nd and 4th Sunday for free arts & crafts projects\, while supplies last!  \n\n\n\n\n\n\n\nProjects change each week and are seasonally themed. Take home whatever you make! If you love this program\, please consider making a donation to help support art at the Market.
URL:https://riverviewfarmersmarket.org/event/free-arts-crafts-with-kelsey-7/
LOCATION:Riverview Farmers Market\, 498 Palisade Ave\, Jersey City\, New Jersey\, 07307\, United States
END:VEVENT
BEGIN:VEVENT
DTSTART;TZID=America/New_York:20260823T100000
DTEND;TZID=America/New_York:20260823T140000
DTSTAMP:20260421T134132
CREATED:20260419T224812Z
LAST-MODIFIED:20260419T224814Z
UID:1573-1787479200-1787493600@riverviewfarmersmarket.org
SUMMARY:Free Arts & Crafts with Kelsey
DESCRIPTION:Join us for Free Arts & Crafts with Kelsey\, our resident Artist Educator. She joins us every 2nd and 4th Sunday for free arts & crafts projects\, while supplies last!  \n\n\n\n\n\n\n\nProjects change each week and are seasonally themed. Take home whatever you make! If you love this program\, please consider making a donation to help support art at the Market.
URL:https://riverviewfarmersmarket.org/event/free-arts-crafts-with-kelsey-8/
LOCATION:Riverview Farmers Market\, 498 Palisade Ave\, Jersey City\, New Jersey\, 07307\, United States
END:VEVENT
END:VCALENDAR